BEGIN:VCALENDAR
VERSION:2.0
PRODID:-//University of Bahrain Alumni Club - ECPv5.16.1.1//NONSGML v1.0//EN
CALSCALE:GREGORIAN
METHOD:PUBLISH
X-WR-CALNAME:University of Bahrain Alumni Club
X-ORIGINAL-URL:https://alumni.uob.edu.bh
X-WR-CALDESC:Events for University of Bahrain Alumni Club
REFRESH-INTERVAL;VALUE=DURATION:PT1H
X-Robots-Tag:noindex
X-PUBLISHED-TTL:PT1H
BEGIN:VTIMEZONE
TZID:UTC
BEGIN:STANDARD
TZOFFSETFROM:+0000
TZOFFSETTO:+0000
TZNAME:UTC
DTSTART:20200101T000000
END:STANDARD
END:VTIMEZONE
BEGIN:VEVENT
DTSTART;VALUE=DATE:20200331
DTEND;VALUE=DATE:20200402
DTSTAMP:20260425T190528
CREATED:20200303T091440Z
LAST-MODIFIED:20200307T070730Z
UID:2399-1585612800-1585785599@alumni.uob.edu.bh
SUMMARY:The English Language Center’s first international conference “Foundation Programs in Higher Education: Gateway to Success”
DESCRIPTION:
URL:https://alumni.uob.edu.bh/event/the-english-language-centers-first-international-conference-foundation-programs-in-higher-education-gateway-to-success/
LOCATION:University of Bahrain\, Bahrain
CATEGORIES:Event
ATTACH;FMTTYPE=image/png:https://alumni.uob.edu.bh/wp-content/uploads/2020/02/bernd-klutsch-nE2HV5AUXFo-unsplash.png
END:VEVENT
END:VCALENDAR