BEGIN:VCALENDAR
VERSION:2.0
PRODID:-//University of Bahrain Alumni Club - ECPv5.16.1.1//NONSGML v1.0//EN
CALSCALE:GREGORIAN
METHOD:PUBLISH
X-WR-CALNAME:University of Bahrain Alumni Club
X-ORIGINAL-URL:https://alumni.uob.edu.bh
X-WR-CALDESC:Events for University of Bahrain Alumni Club
REFRESH-INTERVAL;VALUE=DURATION:PT1H
X-Robots-Tag:noindex
X-PUBLISHED-TTL:PT1H
BEGIN:VTIMEZONE
TZID:UTC
BEGIN:STANDARD
TZOFFSETFROM:+0000
TZOFFSETTO:+0000
TZNAME:UTC
DTSTART:20200101T000000
END:STANDARD
END:VTIMEZONE
BEGIN:VEVENT
DTSTART;VALUE=DATE:20200311
DTEND;VALUE=DATE:20200314
DTSTAMP:20260425T221125
CREATED:20200303T090933Z
LAST-MODIFIED:20200307T100445Z
UID:2393-1583884800-1584143999@alumni.uob.edu.bh
SUMMARY:The 6TH GLOBAL CONFERENCE ON SME\, ENTREPRENEURSHIP & SERVICE INNOVATION (GCSMES-6) 2019
DESCRIPTION:
URL:https://alumni.uob.edu.bh/event/the-6th-global-conference-on-sme-entrepreneurship-service-innovation-gcsmes-6-2019/
LOCATION:University of Bahrain\, Bahrain
CATEGORIES:Event
ATTACH;FMTTYPE=image/png:https://alumni.uob.edu.bh/wp-content/uploads/2020/03/gardenshow2020.png
END:VEVENT
END:VCALENDAR