BEGIN:VCALENDAR
VERSION:2.0
PRODID:-//University of Bahrain Alumni Club - ECPv5.16.1.1//NONSGML v1.0//EN
CALSCALE:GREGORIAN
METHOD:PUBLISH
X-WR-CALNAME:University of Bahrain Alumni Club
X-ORIGINAL-URL:https://alumni.uob.edu.bh
X-WR-CALDESC:Events for University of Bahrain Alumni Club
REFRESH-INTERVAL;VALUE=DURATION:PT1H
X-Robots-Tag:noindex
X-PUBLISHED-TTL:PT1H
BEGIN:VTIMEZONE
TZID:UTC
BEGIN:STANDARD
TZOFFSETFROM:+0000
TZOFFSETTO:+0000
TZNAME:UTC
DTSTART:20200101T000000
END:STANDARD
END:VTIMEZONE
BEGIN:VEVENT
DTSTART;VALUE=DATE:20200304
DTEND;VALUE=DATE:20200305
DTSTAMP:20260425T203618
CREATED:20200303T091546Z
LAST-MODIFIED:20200307T070730Z
UID:2401-1583280000-1583366399@alumni.uob.edu.bh
SUMMARY:8th Annual Strategic Summit for the Advancement of University Exellence in all its Forms
DESCRIPTION:
URL:https://alumni.uob.edu.bh/event/8th-annual-strategic-summit-for-the-advancement-of-university-exellence-in-all-its-forms/
LOCATION:University of Bahrain\, Bahrain
CATEGORIES:Event
ATTACH;FMTTYPE=image/jpeg:https://alumni.uob.edu.bh/wp-content/uploads/2020/02/news-12-2-2020-1a.jpg
END:VEVENT
END:VCALENDAR